BEGIN:VCALENDAR
VERSION:2.0
PRODID:-//eventon.com NONSGML v1.0//EN
CALSCALE:GREGORIAN
METHOD:PUBLISH
BEGIN:VEVENT
UID:69ebc68acc036
DTSTAMP:20260424T193746Z
DTSTART:20240411T073000Z
DTEND:20240411T100000Z
LOCATION:
SUMMARY:CHICHE
DESCRIPTION:Rando avec Henri 9h30 départ rando mairie de CHICHE\nhttps://r
 andonnees-chicheennes.fr/events/chiche-94/
URL:https://randonnees-chicheennes.fr/events/chiche-94/
END:VEVENT
END:VCALENDAR