BEGIN:VCALENDAR
VERSION:2.0
PRODID:-//eventon.com NONSGML v1.0//EN
CALSCALE:GREGORIAN
METHOD:PUBLISH
BEGIN:VEVENT
UID:69eb3f75a8301
DTSTAMP:20260424T100125Z
DTSTART:20230622T071500Z
DTEND:20230622T100000Z
LOCATION:
SUMMARY:CHICHE - CHAUSSERAIS
DESCRIPTION:RDV 9H15 place mairie ChichÃ© pour le covoiturage (0.50 â‚¬) dÃ
 ©part rando 9h30 LA CHAPELLE DE CHAUSSERAIS avec Suzanne\nhttps://randonnee
 s-chicheennes.fr/events/chiche-chausserais-2/
URL:https://randonnees-chicheennes.fr/events/chiche-chausserais-2/
END:VEVENT
END:VCALENDAR