BEGIN:VCALENDAR
VERSION:2.0
PRODID:-//eventon.com NONSGML v1.0//EN
CALSCALE:GREGORIAN
METHOD:PUBLISH
BEGIN:VEVENT
UID:69e4d5d12f4fd
DTSTAMP:20260419T131705Z
DTSTART:20170928T073000Z
DTEND:20170928T210000Z
LOCATION:Départ : Ancienne école de Laubreçais
SUMMARY:Laubreçais
DESCRIPTION:Laubreçais\nhttps://randonnees-chicheennes.fr/events/laubrecai
 s-2/
URL:https://randonnees-chicheennes.fr/events/laubrecais-2/
END:VEVENT
END:VCALENDAR