BEGIN:VCALENDAR
VERSION:2.0
PRODID:-//eventon.com NONSGML v1.0//EN
CALSCALE:GREGORIAN
METHOD:PUBLISH
BEGIN:VEVENT
UID:69e5ecb9ae80a
DTSTAMP:20260420T090705Z
DTSTART:20170524T180000Z
DTEND:20170528T130000Z
LOCATION:Les Alpes Mancelles
SUMMARY:Séjour dans les Alpes Mancelles
DESCRIPTION:Séjour dans les Alpes Mancelles\nhttps://randonnees-chicheenne
 s.fr/events/sejour-dans-les-alpes-mancelles/
URL:https://randonnees-chicheennes.fr/events/sejour-dans-les-alpes-mancelles/
END:VEVENT
END:VCALENDAR