BEGIN:VCALENDAR
VERSION:2.0
PRODID:-//eventon.com NONSGML v1.0//EN
CALSCALE:GREGORIAN
METHOD:PUBLISH
BEGIN:VEVENT
UID:69e55095873a4
DTSTAMP:20260419T220053Z
DTSTART:20161023T113000Z
DTEND:20161022T220000Z
LOCATION:St-Aubin de Baubigné
SUMMARY:St-Aubin de Baubigné  Au Pays De La Rochejacquelein
DESCRIPTION:13h 30 RDV salle des fêtes de Chiché 13h45 la Fourchette Bres
 suire 14h15 parking espace de la Roche (salle des fêtes)  St-Aubin de Bau
 bigné Marche de 7km ou 11\, 5 km\nhttps://randonnees-chicheennes.fr/events
 /st-aubin-de-baubigne/
URL:https://randonnees-chicheennes.fr/events/st-aubin-de-baubigne/
END:VEVENT
END:VCALENDAR